BEGIN:VCALENDAR
VERSION:2.0
PRODID:SchoolNow
CALSCALE:GREGORIAN
BEGIN:VEVENT
UID:b0a9501c-2c65-11f1-ade6-0affe91fbffd
DTSTAMP:20260330T182429Z
SUMMARY:CDD Board Meeting - May 2025
LOCATION:The Cooper Memorial Library 2525 Oakley Seaver Drive Clermont\, FL
  34711
URL;VALUE=URI:https://www.sunstonecdd.com/calendar/8957944/cdd-board-meetin
 g-may-2025
DTSTART:20250514T173000Z
DTEND:20250514T183000Z
ATTACH;FILENAME=2025-05-14 Sunstone Agenda.pdf;FMTTYPE=application/pdf:http
 s://campussuite-storage.s3.amazonaws.com/prod/1559290/440c3c82-ba58-11f0-8
 6fa-0afffa06ec9d/3036510/730dd67e-bf4b-11f0-b496-0affd0ed08b3/file/2025-05
 -14 Sunstone Agenda.pdf
END:VEVENT
END:VCALENDAR
