BEGIN:VCALENDAR
VERSION:2.0
PRODID:SchoolNow
CALSCALE:GREGORIAN
BEGIN:VEVENT
UID:8fd9b8a4-2c65-11f1-9cf2-0a58a9feac02
DTSTAMP:20260330T182441Z
SUMMARY:CDD Board Meeting - Jun. 2025
LOCATION:The Cooper Memorial Library 2525 Oakley Seaver Drive Clermont\, FL
  34711
URL;VALUE=URI:https://www.sunstonecdd.com/calendar/8957943/cdd-board-meetin
 g-jun-2025
DTSTART:20250611T173000Z
DTEND:20250611T183000Z
ATTACH;FILENAME=2025-06-11 Sunstone Agenda.pdf;FMTTYPE=application/pdf:http
 s://campussuite-storage.s3.amazonaws.com/prod/1559290/440c3c82-ba58-11f0-8
 6fa-0afffa06ec9d/3036511/730dd746-bf4b-11f0-bb59-0affd0ed08b3/file/2025-06
 -11 Sunstone Agenda.pdf
END:VEVENT
END:VCALENDAR
