BEGIN:VCALENDAR
VERSION:2.0
PRODID:SchoolNow
CALSCALE:GREGORIAN
BEGIN:VEVENT
UID:6ca925b8-2c65-11f1-9fdd-0affe91fbffd
DTSTAMP:20260330T182235Z
SUMMARY:CDD Board Meeting - Aug. 2025
LOCATION:The Cooper Memorial Library 2525 Oakley Seaver Drive Clermont\, FL
  34711
URL;VALUE=URI:https://www.sunstonecdd.com/calendar/8957942/cdd-board-meetin
 g-aug-2025
DTSTART:20250813T173000Z
DTEND:20250813T183000Z
ATTACH;FILENAME=2025-08-13 Sunstone Agenda.pdf;FMTTYPE=application/pdf:http
 s://campussuite-storage.s3.amazonaws.com/prod/1559290/440c3c82-ba58-11f0-8
 6fa-0afffa06ec9d/3036513/730dd8cc-bf4b-11f0-974f-0affd0ed08b3/file/2025-08
 -13 Sunstone Agenda.pdf
END:VEVENT
END:VCALENDAR
