BEGIN:VCALENDAR
VERSION:2.0
PRODID:SchoolNow
CALSCALE:GREGORIAN
BEGIN:VEVENT
UID:f96713a6-c596-11f0-9523-0a58a9feac02
DTSTAMP:20251119T222746Z
SUMMARY:CDD Board Meeting - Sept. 2026
LOCATION:The Cooper Memorial Library 2525 Oakley Seaver Drive Clermont\, FL
  34711
URL;VALUE=URI:https://www.sunstonecdd.com/calendar/8804395/cdd-board-meetin
 g-sept-2026
DTSTART:20260909T173000Z
DTEND:20260909T183000Z
END:VEVENT
END:VCALENDAR
