BEGIN:VCALENDAR
VERSION:2.0
PRODID:SchoolNow
CALSCALE:GREGORIAN
BEGIN:VEVENT
UID:f024a31c-c596-11f0-8808-0a58a9feac02
DTSTAMP:20251119T222731Z
SUMMARY:CDD Board Meeting - Aug. 2026
LOCATION:The Cooper Memorial Library 2525 Oakley Seaver Drive Clermont\, FL
  34711
URL;VALUE=URI:https://www.sunstonecdd.com/calendar/8804394/cdd-board-meetin
 g-aug-2026
DTSTART:20260812T173000Z
DTEND:20260812T183000Z
END:VEVENT
END:VCALENDAR
