BEGIN:VCALENDAR
VERSION:2.0
PRODID:SchoolNow
CALSCALE:GREGORIAN
BEGIN:VEVENT
UID:e4927e84-c596-11f0-bbdf-0a58a9feac02
DTSTAMP:20251119T222711Z
SUMMARY:CDD Board Meeting - July 2026
LOCATION:The Cooper Memorial Library 2525 Oakley Seaver Drive Clermont\, FL
  34711
URL;VALUE=URI:https://www.sunstonecdd.com/calendar/8804393/cdd-board-meetin
 g-july-2026
DTSTART:20260708T173000Z
DTEND:20260708T183000Z
END:VEVENT
END:VCALENDAR
