BEGIN:VCALENDAR
VERSION:2.0
PRODID:SchoolNow
CALSCALE:GREGORIAN
BEGIN:VEVENT
UID:db34781a-c596-11f0-a162-0a58a9feac02
DTSTAMP:20251119T222656Z
SUMMARY:CDD Board Meeting - June 2026
LOCATION:The Cooper Memorial Library 2525 Oakley Seaver Drive Clermont\, FL
  34711
URL;VALUE=URI:https://www.sunstonecdd.com/calendar/8804392/cdd-board-meetin
 g-june-2026
DTSTART:20260610T173000Z
DTEND:20260610T183000Z
END:VEVENT
END:VCALENDAR
