BEGIN:VCALENDAR
VERSION:2.0
PRODID:SchoolNow
CALSCALE:GREGORIAN
BEGIN:VEVENT
UID:d11f9684-c596-11f0-b3e7-0afff9ea838f
DTSTAMP:20251119T222639Z
SUMMARY:CDD Board Meeting - May 2026
LOCATION:The Cooper Memorial Library 2525 Oakley Seaver Drive Clermont\, FL
  34711
URL;VALUE=URI:https://www.sunstonecdd.com/calendar/8804391/cdd-board-meetin
 g-may-2026
DTSTART:20260513T173000Z
DTEND:20260513T183000Z
END:VEVENT
END:VCALENDAR
