BEGIN:VCALENDAR
VERSION:2.0
PRODID:SchoolNow
CALSCALE:GREGORIAN
BEGIN:VEVENT
UID:c7164552-c596-11f0-8973-0afff9ea838f
DTSTAMP:20251119T222622Z
SUMMARY:CDD Board Meeting - Apr. 2026
LOCATION:The Cooper Memorial Library 2525 Oakley Seaver Drive Clermont\, FL
  34711
URL;VALUE=URI:https://www.sunstonecdd.com/calendar/8804390/cdd-board-meetin
 g-apr-2026
DTSTART:20260408T173000Z
DTEND:20260408T183000Z
END:VEVENT
END:VCALENDAR
