BEGIN:VCALENDAR
VERSION:2.0
PRODID:SchoolNow
CALSCALE:GREGORIAN
BEGIN:VEVENT
UID:bc3d18d6-c596-11f0-8784-0a58a9feac02
DTSTAMP:20260325T181737Z
SUMMARY:CDD Board Meeting - Mar. 2026
LOCATION:The Cooper Memorial Library 2525 Oakley Seaver Drive Clermont\, FL
  34711
URL;VALUE=URI:https://www.sunstonecdd.com/calendar/8804389/cdd-board-meetin
 g-mar-2026
DTSTART:20260311T173000Z
DTEND:20260311T183000Z
ATTACH;FILENAME=2026-03-11 Sunstone CDD Agenda Package.pdf;FMTTYPE=applicat
 ion/pdf:https://campussuite-storage.s3.amazonaws.com/prod/1559290/440c3c82
 -ba58-11f0-86fa-0afffa06ec9d/3083438/b919e772-2876-11f1-ab97-0eb47fac19db/
 file/2026-03-11 Sunstone CDD Agenda Package.pdf
END:VEVENT
END:VCALENDAR
