BEGIN:VCALENDAR
VERSION:2.0
PRODID:SchoolNow
CALSCALE:GREGORIAN
BEGIN:VEVENT
UID:af843ad4-c596-11f0-8fd8-0affe72d166b
DTSTAMP:20260325T173712Z
SUMMARY:CDD Board Meeting - Feb. 2026 - Cancelled
LOCATION:The Cooper Memorial Library 2525 Oakley Seaver Drive Clermont\, FL
  34711
URL;VALUE=URI:https://www.sunstonecdd.com/calendar/8804388/cdd-board-meetin
 g-feb-2026
DTSTART:20260211T183000Z
DTEND:20260211T193000Z
END:VEVENT
END:VCALENDAR
