BEGIN:VCALENDAR
VERSION:2.0
PRODID:SchoolNow
CALSCALE:GREGORIAN
BEGIN:VEVENT
UID:a55ecd58-c596-11f0-9250-0affdcfcd8a3
DTSTAMP:20260325T173700Z
SUMMARY:CDD Board Meeting - Jan. 2026 - Cancelled
LOCATION:The Cooper Memorial Library 2525 Oakley Seaver Drive Clermont\, FL
  34711
URL;VALUE=URI:https://www.sunstonecdd.com/calendar/8804387/cdd-board-meetin
 g-jan-2026
DTSTART:20260114T183000Z
DTEND:20260114T193000Z
END:VEVENT
END:VCALENDAR
