BEGIN:VCALENDAR
VERSION:2.0
PRODID:SchoolNow
CALSCALE:GREGORIAN
BEGIN:VEVENT
UID:97fdc61e-c596-11f0-97de-0e924e89945b
DTSTAMP:20260325T173648Z
SUMMARY:CDD Board Meeting - Dec. 2025 - Cancelled
LOCATION:The Cooper Memorial Library 2525 Oakley Seaver Drive Clermont\, FL
  34711
URL;VALUE=URI:https://www.sunstonecdd.com/calendar/8804385/cdd-board-meetin
 g-dec-2025
DTSTART:20251210T183000Z
DTEND:20251210T193000Z
END:VEVENT
END:VCALENDAR
