BEGIN:VCALENDAR
VERSION:2.0
PRODID:SchoolNow
CALSCALE:GREGORIAN
BEGIN:VEVENT
UID:838d1d4c-c596-11f0-a62f-02343ccddbd9
DTSTAMP:20251119T222429Z
SUMMARY:CDD Board Meeting - Nov. 2025 - Cancelled
LOCATION:The Cooper Memorial Library 2525 Oakley Seaver Drive Clermont\, FL
  34711
URL;VALUE=URI:https://www.sunstonecdd.com/calendar/8804384/cdd-board-meetin
 g-nov-2025-cancelled
DTSTART:20251112T183000Z
DTEND:20251112T193000Z
END:VEVENT
END:VCALENDAR
