BEGIN:VCALENDAR
VERSION:2.0
PRODID:SchoolNow
CALSCALE:GREGORIAN
BEGIN:VEVENT
UID:7072478c-c596-11f0-ac9e-0a58a9feac02
DTSTAMP:20260325T173637Z
SUMMARY:CDD Board Meeting - Oct. 2025 - Cancelled
LOCATION:The Cooper Memorial Library 2525 Oakley Seaver Drive Clermont\, FL
  34711
URL;VALUE=URI:https://www.sunstonecdd.com/calendar/8804383/cdd-board-meetin
 g-oct-2025
DTSTART:20251008T173000Z
DTEND:20251008T183000Z
END:VEVENT
END:VCALENDAR
